BEGIN:VCALENDAR
VERSION:2.0
PRODID:Events Booking
BEGIN:VEVENT
UID:69eb264edfad3
SUMMARY:28. Campeonato de Euskadi 3D
DESCRIPTION:28. Cto. Euskadi 3D
LOCATION:Larrabea Parkea\, 38-36\, 01170 Legutio\, Araba
DTSTART:20260509T133000Z
DTEND:20260509T170000Z
DTSTAMP:20260417T082435Z
ORGANIZER;CN=Arco Caza Araba:MAILTO:robot@arco-caza.com
GEO:42.969011;-2.616214
X-APPLE-STRUCTURED-LOCATION;VALUE=URI;X-ADDRESS=Larrabea Parkea\, 38-36\, 0
 1170 Legutio\, Araba;X-APPLE-RADIUS=72;X-TITLE=Parque de Larrabea:42.96901
 1;-2.616214
END:VEVENT
END:VCALENDAR