BEGIN:VCALENDAR
VERSION:2.0
PRODID:Events Booking
BEGIN:VEVENT
UID:69e5e20bef87d
SUMMARY:4. Jornada de Liga Alavesa 3D
DESCRIPTION:Con el plan de relanzamiento de Arco Caza Araba queremos potenc
 iar la modalidad de 3D entre las y los arqueros en una jornada en la que d
 isfrutemos de esta disciplina en el entorno natural.
 Esperamos que todas
  aquellas personas que participen disfruten de una jornada en la naturalez
 a respetándola y haciendo lo que más nos gusta\, tirar flechas\,
LOCATION:Embalse de Albina\, Araba-Álava
DTSTART:20250510T120000Z
DTEND:20250510T173000Z
DTSTAMP:20250422T190529Z
ORGANIZER;CN=Arco Caza Araba:MAILTO:robot@arco-caza.com
GEO:42.991876;-2.629321
X-APPLE-STRUCTURED-LOCATION;VALUE=URI;X-ADDRESS=Embalse de Albina\, Araba-
 Álava;X-APPLE-RADIUS=72;X-TITLE=Albertia\, embalse de Albina:42.991876;-2
 .629321
END:VEVENT
END:VCALENDAR